BEGIN:VCALENDAR
VERSION:2.0
PRODID:-//Hawthorne - Events - ECPv6.2.0.1//NONSGML v1.0//EN
CALSCALE:GREGORIAN
X-WR-CALNAME:Hawthorne - Events
X-ORIGINAL-URL:https://hawthornees.seattleschools.org/events/hawthornes-mu
 sical-performance/ics/
X-WR-CALDESC:Hawthorne - Events
REFRESH-INTERVAL;VALUE=DURATION:PT1D
X-Robots-Tag:noindex
X-PUBLISHED-TTL:PT1D
BEGIN:VTIMEZONE
TZID:America/Vancouver
BEGIN:DAYLIGHT
TZOFFSETFROM:-0800
TZOFFSETTO:-0700
TZNAME:PDT
DTSTART:20260308T100000
END:DAYLIGHT
BEGIN:STANDARD
TZOFFSETFROM:-0700
TZOFFSETTO:-0800
TZNAME:PST
DTSTART:20261101T090000
END:STANDARD
END:VTIMEZONE
BEGIN:VEVENT
DTSTART;TZID=America/Vancouver:20260511T173000
DTEND;TZID=America/Vancouver:20260511T173000
DTSTAMP:20260424T155715Z
CREATED:20260422T104800Z
LAST-MODIFIED:20260422T132320Z
UID:https://hawthornees.seattleschools.org/events/hawthornes-musical-perfo
 rmance/
SUMMARY:Hawthorne&#039;s Oz Musical
DESCRIPTION:Hawthorne&amp;#8217\;s Musical Performance
Musical Performance: Monday\, MAY 11th\, 2026
URL:https://hawthornees.seattleschools.org/events/hawthornes-musical-perfo
 rmance/
END:VEVENT
END:VCALENDAR